BEGIN:VCALENDAR
VERSION:2.0
PRODID:-//ChamberMaster//Event Calendar 2.0//EN
METHOD:PUBLISH
X-PUBLISHED-TTL:P1H
REFRESH-INTERVAL:P1H
CALSCALE:GREGORIAN
BEGIN:VTIMEZONE
TZID:America/Vancouver
BEGIN:DAYLIGHT
RRULE:FREQ=YEARLY;BYMONTH=3;BYDAY=2SU
DTSTART:20070101T000000
TZOFFSETFROM:-0800
TZOFFSETTO:-0700
TZNAME:Pacific Daylight Time
END:DAYLIGHT
BEGIN:STANDARD
RRULE:FREQ=YEARLY;BYMONTH=11;BYDAY=1SU
DTSTART:20070101T000000
TZOFFSETFROM:-0700
TZOFFSETTO:-0800
TZNAME:Pacific Standard Time
END:STANDARD
END:VTIMEZONE
BEGIN:VEVENT
DTSTART;TZID=America/Vancouver:20260427T190000
DTEND;TZID=America/Vancouver:20260427T203000
X-MICROSOFT-CDO-ALLDAYEVENT:FALSE
SUMMARY:Acrylic Pouring: Experiment with Colours
DESCRIPTION:Discover the art of acrylic pouring! By using fluid acrylic paint you'll craft your abstract masterpiece with one of its unique techniques.\n\nUnleash your inner artist at our painting class! Everything you need is provided\, from canvases to paint supplies and even gloves and drip trays. Our expert instructor will guide you through mixing colors for acrylic pour and various fluid paint techniques\, resulting in a mesmerizing abstract masterpiece. No prior experience is needed\, making it perfect for teens and up.\n\nPlus\, enjoy a complimentary drink as you create! Join us for a fun\, family-friendly creative experience!\n\nYour paintings must be taken home on the same day right after the event and must be transported flat as they will not be fully dried by the end of the class.
X-ALT-DESC;FMTTYPE=text/html:Discover the art of acrylic pouring! By using fluid acrylic paint you'll craft your abstract masterpiece with one of its unique techniques.\n\nUnleash your inner artist at our painting class! Everything you need is provided\, from canvases to paint supplies and even gloves and drip trays. Our expert instructor will guide you through mixing colors for acrylic pour and various fluid paint techniques\, resulting in a mesmerizing abstract masterpiece. No prior experience is needed\, making it perfect for teens and up.\n\nPlus\, enjoy a complimentary drink as you create! Join us for a fun\, family-friendly creative experience!\n\nYour paintings must be taken home on the same day right after the event and must be transported flat as they will not be fully dried by the end of the class.
LOCATION:6879 Kingsway Burnaby BC V5E 1E4
UID:e.1986.1448756
SEQUENCE:3
DTSTAMP:20260422T112209Z
URL:https://business.tricitieschamber.com/events/Details/acrylic-pouring-experiment-with-colours-1715964?sourceTypeId=Hub
END:VEVENT
END:VCALENDAR
