BEGIN:VCALENDAR
VERSION:2.0
PRODID:-//ChamberMaster//Event Calendar 2.0//EN
METHOD:PUBLISH
X-PUBLISHED-TTL:P1H
REFRESH-INTERVAL:P1H
CALSCALE:GREGORIAN
BEGIN:VTIMEZONE
TZID:America/Vancouver
BEGIN:DAYLIGHT
RRULE:FREQ=YEARLY;BYMONTH=3;BYDAY=2SU
DTSTART:20070101T000000
TZOFFSETFROM:-0800
TZOFFSETTO:-0700
TZNAME:Pacific Daylight Time
END:DAYLIGHT
BEGIN:STANDARD
RRULE:FREQ=YEARLY;BYMONTH=11;BYDAY=1SU
DTSTART:20070101T000000
TZOFFSETFROM:-0700
TZOFFSETTO:-0800
TZNAME:Pacific Standard Time
END:STANDARD
END:VTIMEZONE
BEGIN:VEVENT
DTSTART;VALUE=DATE:20260423
DTEND;VALUE=DATE:20260424
TRANSP:TRANSPARENT
X-MICROSOFT-CDO-ALLDAYEVENT:TRUE
SUMMARY:Free session on Fall Prevention and Incontinence Awareness
DESCRIPTION:Comfort Keepers Tri-Cities is pleased to invite seniors and their families to a free community session on Fall Prevention and Incontinence Awareness.\n \nThis informative session will be facilitated by Dr. Adam Will\, a Chiropractor\, who will share practical tips and valuable insights to help seniors stay safe\, confident\, and informed. As a special addition\, guests will also enjoy live guitar music by Lisa Rae Simons\, making the afternoon both educational and enjoyable.\n \nEvent Details:\nDate: April 25\nTime: 1:00 PM – 2:30 PM\nLocation: Inlet Church\, 2315 Spring St\, Port Moody\, BC V3H 0L7\n \nThis is a wonderful opportunity to attend a free session\, learn helpful information\, connect with others in the community\, and enjoy live music.\n \nPlease register to reserve your spot.\nhttps://forms.gle/RrgPKT86Gg2S5MTC8\n \nWe would love to see you there.
X-ALT-DESC;FMTTYPE=text/html:Comfort Keepers Tri-Cities is pleased to invite seniors and their families to a free community session on Fall Prevention and Incontinence Awareness.\n \nThis informative session will be facilitated by Dr. Adam Will\, a Chiropractor\, who will share practical tips and valuable insights to help seniors stay safe\, confident\, and informed. As a special addition\, guests will also enjoy live guitar music by Lisa Rae Simons\, making the afternoon both educational and enjoyable.\n \nEvent Details:\nDate: April 25\nTime: 1:00 PM – 2:30 PM\nLocation: Inlet Church\, 2315 Spring St\, Port Moody\, BC V3H 0L7\n \nThis is a wonderful opportunity to attend a free session\, learn helpful information\, connect with others in the community\, and enjoy live music.\n \nPlease register to reserve your spot.\nhttps://forms.gle/RrgPKT86Gg2S5MTC8\n \nWe would love to see you there.
LOCATION:2315 Spring St Port Moody BC V3H 0L7
UID:e.1986.1450675
SEQUENCE:3
DTSTAMP:20260424T040249Z
URL:https://business.tricitieschamber.com/events/Details/free-session-on-fall-prevention-and-incontinence-awareness-1718326?sourceTypeId=Hub
END:VEVENT
END:VCALENDAR
