BEGIN:VCALENDAR
VERSION:2.0
PRODID:-//ChamberMaster//Event Calendar 2.0//EN
METHOD:PUBLISH
X-PUBLISHED-TTL:P1H
REFRESH-INTERVAL:P1H
CALSCALE:GREGORIAN
BEGIN:VTIMEZONE
TZID:America/Vancouver
BEGIN:DAYLIGHT
RRULE:FREQ=YEARLY;BYMONTH=3;BYDAY=2SU
DTSTART:20070101T000000
TZOFFSETFROM:-0800
TZOFFSETTO:-0700
TZNAME:Pacific Daylight Time
END:DAYLIGHT
BEGIN:STANDARD
RRULE:FREQ=YEARLY;BYMONTH=11;BYDAY=1SU
DTSTART:20070101T000000
TZOFFSETFROM:-0700
TZOFFSETTO:-0800
TZNAME:Pacific Standard Time
END:STANDARD
END:VTIMEZONE
BEGIN:VEVENT
DTSTART;TZID=America/Vancouver:20260502T100000
DTEND;TZID=America/Vancouver:20260502T150000
X-MICROSOFT-CDO-ALLDAYEVENT:FALSE
SUMMARY:International Day of Dance in PoCo
DESCRIPTION:TSACS is super super super stoked to once again bring to the community for the second time our Annual International Day of Dance celebration in Port Coquitlam. \n💃💃Some amazing instructors to walk you through some mindblowing dance forms all morning and afternoon! We promised you a #globaldancecommunity with #localtalent and here we are!!🕺🏼🕺🏼 \nPay What You Can Sliding Scale to reserve a spot for the entire day! 💕 Pre-registration required! 💡 REGISTER HERE: https://www.zeffy.com/en-CA/ticketing/international-day-of-dance-in-poco \nWorkshop schedule: \n10am to 10:45am - Zumba with @dancewance_vancouver \n11am to 11:45am - Music Video Hip Hop with @bevsohchoreographer Bev Soh Choreography \n12pm to 12:45pm - Indian Classical Dances (3 x 15 mins each) @sudnyadanceacademy @kalakshetrakathak @punaravritti_odissi Sudnya Dance Academy for Bharatnatyam\, Kalakshetra Kathak and Punaravritti Odissi \n1pm to 1:45pm - Highland Dancing with the Heather Jolley Crew \n2pm to 2:45pm - Bollywood Fusion with Yeshvi from Bollyfusion (groove and learn the moved to Shararat - Dhurandhar!) \nVenue: The beautiful Michael Wright Art Gallery at the Gathering Place\, Leigh Square in Downtown PoCo \nWe will also have a fun and free #artscraftworkshop by Come Let Us Craft for kids to keep them busy if the parents want to groove solo! Limited spots\, venue capacity in effect! \nSee you on May 2nd!! \nSponsored by Remittor and Kunal Nijhawan (Mortgages and Realty) \nSupported by City of Port Coquitlam \nREGISTER HERE: https://www.zeffy.com/en-CA/ticketing/international-day-of-dance-in-poco
X-ALT-DESC;FMTTYPE=text/html:<!DOCTYPE html><html><head><title></title></head><body aria-disabled="false"><p>TSACS is super super super stoked to once again bring to the community for the second time our <strong fr-original-style="" style="font-weight: 700\;">Annual International Day of Dance celebration</strong> in Port Coquitlam.&nbsp\;</p><p><br></p><p>💃💃Some amazing instructors to walk you through some mindblowing dance forms all morning and afternoon! We promised you a #globaldancecommunity with #localtalent and here we are!!🕺🏼🕺🏼&nbsp\;</p><p><br></p><p>Pay What You Can Sliding Scale to reserve a spot for the entire day! 💕 Pre-registration required! 💡 REGISTER HERE: https://www.zeffy.com/en-CA/ticketing/international-day-of-dance-in-poco&nbsp\;</p><p><br></p><p>Workshop schedule:&nbsp\;</p><p><br></p><p>10am to 10:45am - Zumba with @dancewance_vancouver&nbsp\;</p><p><br></p><p>11am to 11:45am - Music Video Hip Hop with @bevsohchoreographer Bev Soh Choreography&nbsp\;</p><p><br></p><p>12pm to 12:45pm - Indian Classical Dances (3 x 15 mins each) @sudnyadanceacademy @kalakshetrakathak @punaravritti_odissi Sudnya Dance Academy for Bharatnatyam\, Kalakshetra Kathak and Punaravritti Odissi&nbsp\;</p><p><br></p><p>1pm to 1:45pm - Highland Dancing with the Heather Jolley Crew&nbsp\;</p><p><br></p><p>2pm to 2:45pm - Bollywood Fusion with Yeshvi from Bollyfusion (groove and learn the moved to Shararat - Dhurandhar!)&nbsp\;</p><p><br></p><p>Venue: The beautiful Michael Wright Art Gallery at the Gathering Place\, Leigh Square in Downtown PoCo&nbsp\;</p><p><br></p><p>We will also have a fun and free #artscraftworkshop by Come Let Us Craft for kids to keep them busy if the parents want to groove solo! Limited spots\, venue capacity in effect!&nbsp\;</p><p><br></p><p>See you on May 2nd!!&nbsp\;</p><p><br></p><p>Sponsored by Remittor and Kunal Nijhawan (Mortgages and Realty)&nbsp\;</p><p><br></p><p>Supported by City of Port Coquitlam&nbsp\;</p><p><br></p><p>REGISTER HERE: https://www.zeffy.com/en-CA/ticketing/international-day-of-dance-in-poco</p></body></html>
LOCATION:#200-2253 Leigh Square Port Coquitlam BC V3C 3B8
UID:e.1986.1449250
SEQUENCE:3
DTSTAMP:20260423T021306Z
URL:https://business.tricitieschamber.com/events/Details/international-day-of-dance-in-poco-1716564?sourceTypeId=Hub
END:VEVENT
END:VCALENDAR
