BEGIN:VCALENDAR
VERSION:2.0
PRODID:-//ChamberMaster//Event Calendar 2.0//EN
METHOD:PUBLISH
X-PUBLISHED-TTL:P1H
REFRESH-INTERVAL:P1H
CALSCALE:GREGORIAN
BEGIN:VTIMEZONE
TZID:America/Vancouver
BEGIN:DAYLIGHT
RRULE:FREQ=YEARLY;BYMONTH=3;BYDAY=2SU
DTSTART:20070101T000000
TZOFFSETFROM:-0800
TZOFFSETTO:-0700
TZNAME:Pacific Daylight Time
END:DAYLIGHT
BEGIN:STANDARD
RRULE:FREQ=YEARLY;BYMONTH=11;BYDAY=1SU
DTSTART:20070101T000000
TZOFFSETFROM:-0700
TZOFFSETTO:-0800
TZNAME:Pacific Standard Time
END:STANDARD
END:VTIMEZONE
BEGIN:VEVENT
DTSTART;TZID=America/Vancouver:20260507T190000
DTEND;TZID=America/Vancouver:20260507T210000
X-MICROSOFT-CDO-ALLDAYEVENT:FALSE
SUMMARY:Mother's Day Paint Nite -Wildflowers for Mom
DESCRIPTION:Paint. Sip. Repeat.\n\nDiscover your inner artist as you craft a stunning masterpiece with guidance from our expert art instructor. Savor delicious food and drinks as you unwind and let your creativity flow! Gather your friends and gear up for an unforgettable evening of fun and artistry.\n\nIMPORTANT! The Paint Nite events are held at The Eclipse Lounge in the far west end of the casino in the PNE area. Please bring two pieces of ID or your entrance could be denied by the casino security!\n\nIt's situated in the Hastings-Sunrise neighborhood\, adjacent to the Pacific National Exhibition (PNE) grounds When you're within the PNE grounds\, head towards the northeast corner where Hastings Racecourse is located. The Eclipse Lounge is inside the racecourse facility\, just steps from the gaming floor.\nThe entrance is from the tarmac where the races are held.\n\nhttps://www.paintnite.com/ca/bc/vancouver/events/wildflowers-for-mom-tickets-10363741
X-ALT-DESC;FMTTYPE=text/html:Paint. Sip. Repeat.\n\nDiscover your inner artist as you craft a stunning masterpiece with guidance from our expert art instructor. Savor delicious food and drinks as you unwind and let your creativity flow! Gather your friends and gear up for an unforgettable evening of fun and artistry.\n\nIMPORTANT! The Paint Nite events are held at The Eclipse Lounge in the far west end of the casino in the PNE area. Please bring two pieces of ID or your entrance could be denied by the casino security!\n\nIt's situated in the Hastings-Sunrise neighborhood\, adjacent to the Pacific National Exhibition (PNE) grounds When you're within the PNE grounds\, head towards the northeast corner where Hastings Racecourse is located. The Eclipse Lounge is inside the racecourse facility\, just steps from the gaming floor.\nThe entrance is from the tarmac where the races are held.\n\nhttps://www.paintnite.com/ca/bc/vancouver/events/wildflowers-for-mom-tickets-10363741
LOCATION:188 N Renfrew St\, Vancouver BC V5K 3N7
UID:e.1986.1448754
SEQUENCE:3
DTSTAMP:20260422T110735Z
URL:https://business.tricitieschamber.com/events/Details/mother-s-day-paint-nite-wildflowers-for-mom-1715962?sourceTypeId=Hub
END:VEVENT
END:VCALENDAR
