BEGIN:VCALENDAR
VERSION:2.0
PRODID:-//ChamberMaster//Event Calendar 2.0//EN
METHOD:PUBLISH
X-PUBLISHED-TTL:P1H
REFRESH-INTERVAL:P1H
CALSCALE:GREGORIAN
BEGIN:VTIMEZONE
TZID:America/Vancouver
BEGIN:DAYLIGHT
RRULE:FREQ=YEARLY;BYMONTH=3;BYDAY=2SU
DTSTART:20070101T000000
TZOFFSETFROM:-0800
TZOFFSETTO:-0700
TZNAME:Pacific Daylight Time
END:DAYLIGHT
BEGIN:STANDARD
RRULE:FREQ=YEARLY;BYMONTH=11;BYDAY=1SU
DTSTART:20070101T000000
TZOFFSETFROM:-0700
TZOFFSETTO:-0800
TZNAME:Pacific Standard Time
END:STANDARD
END:VTIMEZONE
BEGIN:VEVENT
DTSTART;TZID=America/Vancouver:20260504T190000
DTEND;TZID=America/Vancouver:20260504T210000
X-MICROSOFT-CDO-ALLDAYEVENT:FALSE
SUMMARY:Mother's Day Paint Nite- Window Box Bloom
DESCRIPTION:Join SuperTeam for a lively Paint Nite in Burnaby. This isn't just an art class\; it's a fun night out with friends\, where you’ll create some colorful trees while sipping your favorite drink. All supplies are included\, so you won't have to worry about a thing. Whether you're a seasoned painter or a complete beginner\, this event promises a relaxed atmosphere\, laughter\, and a chance to make some unforgettable memories.\nhttps://www.paintnite.com/ca/bc/burnaby/events/window-box-blooms-tickets-10366131
X-ALT-DESC;FMTTYPE=text/html:Join SuperTeam for a lively Paint Nite in Burnaby. This isn't just an art class\; it's a fun night out with friends\, where you’ll create some colorful trees while sipping your favorite drink. All supplies are included\, so you won't have to worry about a thing. Whether you're a seasoned painter or a complete beginner\, this event promises a relaxed atmosphere\, laughter\, and a chance to make some unforgettable memories.\nhttps://www.paintnite.com/ca/bc/burnaby/events/window-box-blooms-tickets-10366131
LOCATION:6879 Kingsway Burnaby BC V5E 1E4
UID:e.1986.1448753
SEQUENCE:3
DTSTAMP:20260422T111821Z
URL:https://business.tricitieschamber.com/events/Details/mother-s-day-paint-nite-window-box-bloom-1715961?sourceTypeId=Hub
END:VEVENT
END:VCALENDAR
