BEGIN:VCALENDAR
VERSION:2.0
PRODID:-//ChamberMaster//Event Calendar 2.0//EN
METHOD:PUBLISH
X-PUBLISHED-TTL:P1H
REFRESH-INTERVAL:P1H
CALSCALE:GREGORIAN
BEGIN:VTIMEZONE
TZID:America/Vancouver
BEGIN:DAYLIGHT
RRULE:FREQ=YEARLY;BYMONTH=3;BYDAY=2SU
DTSTART:20070101T000000
TZOFFSETFROM:-0800
TZOFFSETTO:-0700
TZNAME:Pacific Daylight Time
END:DAYLIGHT
BEGIN:STANDARD
RRULE:FREQ=YEARLY;BYMONTH=11;BYDAY=1SU
DTSTART:20070101T000000
TZOFFSETFROM:-0700
TZOFFSETTO:-0800
TZNAME:Pacific Standard Time
END:STANDARD
END:VTIMEZONE
BEGIN:VEVENT
DTSTART;TZID=America/Vancouver:20260429T183000
DTEND;TZID=America/Vancouver:20260429T203000
X-MICROSOFT-CDO-ALLDAYEVENT:FALSE
SUMMARY:Paint Nite - Cherry Blossom Moonlight
DESCRIPTION:This event is perfect for a night out with friends\, date night\, or simply an opportunity to meet new people. Plus\, you'll be able to display your masterpiece proudly after the event! Join us on April 29th 6:30pm. To buy your tickets and to see the painting go here https://paintnite.com/ca/bc/new-westminster/venues/taverna-greka3
X-ALT-DESC;FMTTYPE=text/html:<!DOCTYPE html><html><head><title></title></head><body aria-disabled="false"><p>This event is perfect for a night out with friends\, date night\, or simply an opportunity to meet new people. Plus\, you&#39\;ll be able to display your masterpiece proudly after the event! Join us on April 29th 6:30pm. To buy your tickets and to see the painting go here https://paintnite.com/ca/bc/new-westminster/venues/taverna-greka3</p></body></html>
LOCATION:326 Columbia St.\, New Westminster BC V3L 1A6
UID:e.1986.1448751
SEQUENCE:3
DTSTAMP:20260422T111500Z
URL:https://business.tricitieschamber.com/events/Details/paint-nite-cherry-blossom-moonlight-1715959?sourceTypeId=Hub
END:VEVENT
END:VCALENDAR
