BEGIN:VCALENDAR
VERSION:2.0
PRODID:-//ChamberMaster//Event Calendar 2.0//EN
METHOD:PUBLISH
X-PUBLISHED-TTL:P1H
REFRESH-INTERVAL:P1H
CALSCALE:GREGORIAN
BEGIN:VTIMEZONE
TZID:America/Vancouver
BEGIN:DAYLIGHT
RRULE:FREQ=YEARLY;BYMONTH=3;BYDAY=2SU
DTSTART:20070101T000000
TZOFFSETFROM:-0800
TZOFFSETTO:-0700
TZNAME:Pacific Daylight Time
END:DAYLIGHT
BEGIN:STANDARD
RRULE:FREQ=YEARLY;BYMONTH=11;BYDAY=1SU
DTSTART:20070101T000000
TZOFFSETFROM:-0700
TZOFFSETTO:-0800
TZNAME:Pacific Standard Time
END:STANDARD
END:VTIMEZONE
BEGIN:VEVENT
DTSTART;TZID=America/Vancouver:20260422T180000
DTEND;TZID=America/Vancouver:20260422T200000
X-MICROSOFT-CDO-ALLDAYEVENT:FALSE
SUMMARY:Paint Nite - Painting Monet's Bridge over Lilies
DESCRIPTION:Looking for a fun and creative night out with friends? Join SuperTeam Paint Nite at Greentree Country Club Westwood Plateau in Coquitlam for an unforgettable Paint Nite experience! Sip on delicious drinks and let your creativity flow as our talented artist guides you step-by-step in creating your own masterpiece. No painting experience necessary - just bring your sense of adventure and get ready to unleash your inner artist. Don't miss out on this exciting event at one of Coquitlam's most beautiful venues. Grab your tickets now and get ready to paint the night away.\nhttps://www.paintnite.com/ca/bc/port-coquitlam/events/impressionist-monet-bridge-over-lilies-tickets-10365014
X-ALT-DESC;FMTTYPE=text/html:Looking for a fun and creative night out with friends? Join SuperTeam Paint Nite at Greentree Country Club Westwood Plateau in Coquitlam for an unforgettable Paint Nite experience! Sip on delicious drinks and let your creativity flow as our talented artist guides you step-by-step in creating your own masterpiece. No painting experience necessary - just bring your sense of adventure and get ready to unleash your inner artist. Don't miss out on this exciting event at one of Coquitlam's most beautiful venues. Grab your tickets now and get ready to paint the night away.\nhttps://www.paintnite.com/ca/bc/port-coquitlam/events/impressionist-monet-bridge-over-lilies-tickets-10365014
LOCATION:3251 Plateau Blvd \, Coquitlam BC V3E 3B8
UID:e.1986.1448755
SEQUENCE:3
DTSTAMP:20260422T111514Z
URL:https://business.tricitieschamber.com/events/Details/paint-nite-painting-monet-s-bridge-over-lilies-1715963?sourceTypeId=Hub
END:VEVENT
END:VCALENDAR
