BEGIN:VCALENDAR
VERSION:2.0
PRODID:-//ChamberMaster//Event Calendar 2.0//EN
METHOD:PUBLISH
X-PUBLISHED-TTL:P1H
REFRESH-INTERVAL:P1H
CALSCALE:GREGORIAN
BEGIN:VTIMEZONE
TZID:America/Vancouver
BEGIN:DAYLIGHT
RRULE:FREQ=YEARLY;BYMONTH=3;BYDAY=2SU
DTSTART:20070101T000000
TZOFFSETFROM:-0800
TZOFFSETTO:-0700
TZNAME:Pacific Daylight Time
END:DAYLIGHT
BEGIN:STANDARD
RRULE:FREQ=YEARLY;BYMONTH=11;BYDAY=1SU
DTSTART:20070101T000000
TZOFFSETFROM:-0700
TZOFFSETTO:-0800
TZNAME:Pacific Standard Time
END:STANDARD
END:VTIMEZONE
BEGIN:VEVENT
DTSTART;TZID=America/Vancouver:20260429T190000
DTEND;TZID=America/Vancouver:20260429T220000
X-MICROSOFT-CDO-ALLDAYEVENT:FALSE
SUMMARY:Tri-Cities Pride's Queers & Beers - April Silent Auction edition
DESCRIPTION:Queers & Beers Tri-Cities is our monthly hangout for 2S/LGBTQIA+ folks and friends\, generously hosted at The Parkside Brewery. Grab some of your favourite people and enjoy hanging out in a welcoming\, inclusive space. Or\, meet some cool new people over a pint (or non-alcoholic beverage) of your choice. And you get 15% off pints for the evening!\n\nApril's event will include a silent auction to help support Tri-Cities Pride's operations and festivals!
X-ALT-DESC;FMTTYPE=text/html:Queers & Beers Tri-Cities is our monthly hangout for 2S/LGBTQIA+ folks and friends\, generously hosted at The Parkside Brewery. Grab some of your favourite people and enjoy hanging out in a welcoming\, inclusive space. Or\, meet some cool new people over a pint (or non-alcoholic beverage) of your choice. And you get 15% off pints for the evening!\n\nApril's event will include a silent auction to help support Tri-Cities Pride's operations and festivals!
LOCATION:2731 Murray Street Port Moody BC V3H 1X1
UID:e.1986.1450650
SEQUENCE:3
DTSTAMP:20260424T040426Z
URL:https://business.tricitieschamber.com/events/Details/tri-cities-pride-s-queers-beers-april-silent-auction-edition-1718302?sourceTypeId=Hub
END:VEVENT
END:VCALENDAR
